BEGIN:VCALENDAR
VERSION:2.0
PRODID:-//North Carolina Family Child Care Home Collaborative - ECPv6.15.18//NONSGML v1.0//EN
CALSCALE:GREGORIAN
METHOD:PUBLISH
X-WR-CALNAME:North Carolina Family Child Care Home Collaborative
X-ORIGINAL-URL:https://ncfcchcollaborative.com
X-WR-CALDESC:Events for North Carolina Family Child Care Home Collaborative
REFRESH-INTERVAL;VALUE=DURATION:PT1H
X-Robots-Tag:noindex
X-PUBLISHED-TTL:PT1H
BEGIN:VTIMEZONE
TZID:America/New_York
BEGIN:DAYLIGHT
TZOFFSETFROM:-0500
TZOFFSETTO:-0400
TZNAME:EDT
DTSTART:20240310T070000
END:DAYLIGHT
BEGIN:STANDARD
TZOFFSETFROM:-0400
TZOFFSETTO:-0500
TZNAME:EST
DTSTART:20241103T060000
END:STANDARD
BEGIN:DAYLIGHT
TZOFFSETFROM:-0500
TZOFFSETTO:-0400
TZNAME:EDT
DTSTART:20250309T070000
END:DAYLIGHT
BEGIN:STANDARD
TZOFFSETFROM:-0400
TZOFFSETTO:-0500
TZNAME:EST
DTSTART:20251102T060000
END:STANDARD
BEGIN:DAYLIGHT
TZOFFSETFROM:-0500
TZOFFSETTO:-0400
TZNAME:EDT
DTSTART:20260308T070000
END:DAYLIGHT
BEGIN:STANDARD
TZOFFSETFROM:-0400
TZOFFSETTO:-0500
TZNAME:EST
DTSTART:20261101T060000
END:STANDARD
BEGIN:DAYLIGHT
TZOFFSETFROM:-0500
TZOFFSETTO:-0400
TZNAME:EDT
DTSTART:20270314T070000
END:DAYLIGHT
BEGIN:STANDARD
TZOFFSETFROM:-0400
TZOFFSETTO:-0500
TZNAME:EST
DTSTART:20271107T060000
END:STANDARD
END:VTIMEZONE
BEGIN:VEVENT
DTSTART;TZID=America/New_York:20260415T180000
DTEND;TZID=America/New_York:20260415T190000
DTSTAMP:20260420T130256
CREATED:20260403T151840Z
LAST-MODIFIED:20260403T152030Z
UID:335-1776276000-1776279600@ncfcchcollaborative.com
SUMMARY:Deep Dive with DCDEE: Overview of Child Care Rules
DESCRIPTION:« All Events\n				\n				\n				\n				\n					\n	Deep Dive with DCDEE: Frequently Asked Questions & Resources				\n				\n				\n					In our final session of the April Community of Practice series\, partners at DCDEE join the NC Family Child Care Home Collaborative to answer questions\, share resources\, and discuss next steps. 				\n		\n				\n				\n					\n	\n				\n				\n		\n		\n				\n							\n			\n						\n		\n						\n				\n									In-Person								\n				\n		\n				\n							\n			\n						\n		\n						\n				\n										\n						\n									Zoom Link\n					\n					\n								\n				\n		\n				\n							\n			\n						\n		\n						\n				\n				\n					\n		\n			April 23\n\n	\n\n	 @ \n\n\n6:00 pm\n\n		\n\n\n\n	\n	 - \n\n7:00 pm\n\n\n\n	\n				\n				\n				\n				\n				\n					\n	\n\n	Categories:	\n		Workshop
URL:https://ncfcchcollaborative.com/training-event/deep-dive-with-dcdee-overview-of-child-care-rules/
LOCATION:Zoom\, NY
CATEGORIES:Workshop
ATTACH;FMTTYPE=image/png:https://ncfcchcollaborative.com/wp-content/uploads/2026/01/Gemini_Generated_Image_o1x6lxo1x6lxo1x6.png
END:VEVENT
BEGIN:VEVENT
DTSTART;TZID=America/New_York:20260408T180000
DTEND;TZID=America/New_York:20260408T190000
DTSTAMP:20260420T130256
CREATED:20260401T142307Z
LAST-MODIFIED:20260401T142757Z
UID:328-1775671200-1775674800@ncfcchcollaborative.com
SUMMARY:Information Session (April 8th)
DESCRIPTION:« All Events\n				\n				\n				\n				\n					\n	Deep Dive with DCDEE: Frequently Asked Questions & Resources				\n				\n				\n					In our final session of the April Community of Practice series\, partners at DCDEE join the NC Family Child Care Home Collaborative to answer questions\, share resources\, and discuss next steps. 				\n		\n				\n				\n					\n	\n				\n				\n		\n		\n				\n							\n			\n						\n		\n						\n				\n									In-Person								\n				\n		\n				\n							\n			\n						\n		\n						\n				\n										\n						\n									Zoom Link\n					\n					\n								\n				\n		\n				\n							\n			\n						\n		\n						\n				\n				\n					\n		\n			April 23\n\n	\n\n	 @ \n\n\n6:00 pm\n\n		\n\n\n\n	\n	 - \n\n7:00 pm\n\n\n\n	\n				\n				\n				\n				\n				\n					\n	\n\n	Categories:	\n		Workshop
URL:https://ncfcchcollaborative.com/training-event/information-session-3/
LOCATION:Zoom\, NY
CATEGORIES:Workshop
ATTACH;FMTTYPE=image/png:https://ncfcchcollaborative.com/wp-content/uploads/2025/11/woman-teaching-at-home.png
END:VEVENT
BEGIN:VEVENT
DTSTART;TZID=America/New_York:20260318T180000
DTEND;TZID=America/New_York:20260318T190000
DTSTAMP:20260420T130256
CREATED:20260325T164022Z
LAST-MODIFIED:20260330T183451Z
UID:316-1773856800-1773860400@ncfcchcollaborative.com
SUMMARY:March CoP: The Foundations of Financial Literacy
DESCRIPTION:« All Events\n				\n				\n				\n				\n					\n	Deep Dive with DCDEE: Frequently Asked Questions & Resources				\n				\n				\n					In our final session of the April Community of Practice series\, partners at DCDEE join the NC Family Child Care Home Collaborative to answer questions\, share resources\, and discuss next steps. 				\n		\n				\n				\n					\n	\n				\n				\n		\n		\n				\n							\n			\n						\n		\n						\n				\n									In-Person								\n				\n		\n				\n							\n			\n						\n		\n						\n				\n										\n						\n									Zoom Link\n					\n					\n								\n				\n		\n				\n							\n			\n						\n		\n						\n				\n				\n					\n		\n			April 23\n\n	\n\n	 @ \n\n\n6:00 pm\n\n		\n\n\n\n	\n	 - \n\n7:00 pm\n\n\n\n	\n				\n				\n				\n				\n				\n					\n	\n\n	Categories:	\n		Workshop
URL:https://ncfcchcollaborative.com/training-event/march-cop-the-foundations-of-financial-literacy/
END:VEVENT
BEGIN:VEVENT
DTSTART;TZID=America/New_York:20260224T180000
DTEND;TZID=America/New_York:20260224T190000
DTSTAMP:20260420T130256
CREATED:20260210T181415Z
LAST-MODIFIED:20260210T184458Z
UID:291-1771956000-1771959600@ncfcchcollaborative.com
SUMMARY:CoP Extension Session 1 (2/24/2026)
DESCRIPTION:« All Events\n				\n				\n				\n				\n					\n	Deep Dive with DCDEE: Frequently Asked Questions & Resources				\n				\n				\n					In our final session of the April Community of Practice series\, partners at DCDEE join the NC Family Child Care Home Collaborative to answer questions\, share resources\, and discuss next steps. 				\n		\n				\n				\n					\n	\n				\n				\n		\n		\n				\n							\n			\n						\n		\n						\n				\n									In-Person								\n				\n		\n				\n							\n			\n						\n		\n						\n				\n										\n						\n									Zoom Link\n					\n					\n								\n				\n		\n				\n							\n			\n						\n		\n						\n				\n				\n					\n		\n			April 23\n\n	\n\n	 @ \n\n\n6:00 pm\n\n		\n\n\n\n	\n	 - \n\n7:00 pm\n\n\n\n	\n				\n				\n				\n				\n				\n					\n	\n\n	Categories:	\n		Workshop
URL:https://ncfcchcollaborative.com/training-event/cop-extension-session-1-2-24-2026/
LOCATION:Zoom\, NY
ATTACH;FMTTYPE=image/png:https://ncfcchcollaborative.com/wp-content/uploads/2025/09/NC-FCCH-Collaborative-RGB-transp-1-scaled.png
END:VEVENT
BEGIN:VEVENT
DTSTART;TZID=America/New_York:20260218T180000
DTEND;TZID=America/New_York:20260218T190000
DTSTAMP:20260420T130256
CREATED:20260206T150818Z
LAST-MODIFIED:20260206T150910Z
UID:283-1771437600-1771441200@ncfcchcollaborative.com
SUMMARY:CoP: Family Support (February 18th)
DESCRIPTION:« All Events\n				\n				\n				\n				\n					\n	Deep Dive with DCDEE: Frequently Asked Questions & Resources				\n				\n				\n					In our final session of the April Community of Practice series\, partners at DCDEE join the NC Family Child Care Home Collaborative to answer questions\, share resources\, and discuss next steps. 				\n		\n				\n				\n					\n	\n				\n				\n		\n		\n				\n							\n			\n						\n		\n						\n				\n									In-Person								\n				\n		\n				\n							\n			\n						\n		\n						\n				\n										\n						\n									Zoom Link\n					\n					\n								\n				\n		\n				\n							\n			\n						\n		\n						\n				\n				\n					\n		\n			April 23\n\n	\n\n	 @ \n\n\n6:00 pm\n\n		\n\n\n\n	\n	 - \n\n7:00 pm\n\n\n\n	\n				\n				\n				\n				\n				\n					\n	\n\n	Categories:	\n		Workshop
URL:https://ncfcchcollaborative.com/training-event/cop-family-support-february-18th/
LOCATION:Zoom\, NY
ATTACH;FMTTYPE=image/png:https://ncfcchcollaborative.com/wp-content/uploads/2025/11/Gemini_Generated_Image_578gj9578gj9578g.png
END:VEVENT
BEGIN:VEVENT
DTSTART;TZID=America/New_York:20260211T180000
DTEND;TZID=America/New_York:20260211T190000
DTSTAMP:20260420T130256
CREATED:20260206T150243Z
LAST-MODIFIED:20260210T181234Z
UID:281-1770832800-1770836400@ncfcchcollaborative.com
SUMMARY:Information Session (February 11th)
DESCRIPTION:« All Events\n				\n				\n				\n				\n					\n	Deep Dive with DCDEE: Frequently Asked Questions & Resources				\n				\n				\n					In our final session of the April Community of Practice series\, partners at DCDEE join the NC Family Child Care Home Collaborative to answer questions\, share resources\, and discuss next steps. 				\n		\n				\n				\n					\n	\n				\n				\n		\n		\n				\n							\n			\n						\n		\n						\n				\n									In-Person								\n				\n		\n				\n							\n			\n						\n		\n						\n				\n										\n						\n									Zoom Link\n					\n					\n								\n				\n		\n				\n							\n			\n						\n		\n						\n				\n				\n					\n		\n			April 23\n\n	\n\n	 @ \n\n\n6:00 pm\n\n		\n\n\n\n	\n	 - \n\n7:00 pm\n\n\n\n	\n				\n				\n				\n				\n				\n					\n	\n\n	Categories:	\n		Workshop
URL:https://ncfcchcollaborative.com/training-event/information-session-2/
LOCATION:Zoom\, NY
ATTACH;FMTTYPE=image/png:https://ncfcchcollaborative.com/wp-content/uploads/2025/09/NC-FCCH-Collaborative-RGB-transp-1-scaled.png
END:VEVENT
BEGIN:VEVENT
DTSTART;TZID=America/New_York:20251204T183000
DTEND;TZID=America/New_York:20251204T193000
DTSTAMP:20260420T130256
CREATED:20251120T215139Z
LAST-MODIFIED:20260129T203106Z
UID:212-1764873000-1764876600@ncfcchcollaborative.com
SUMMARY:Information Session
DESCRIPTION:« All Events\n				\n				\n				\n				\n					\n	Deep Dive with DCDEE: Frequently Asked Questions & Resources				\n				\n				\n					In our final session of the April Community of Practice series\, partners at DCDEE join the NC Family Child Care Home Collaborative to answer questions\, share resources\, and discuss next steps. 				\n		\n				\n				\n					\n	\n				\n				\n		\n		\n				\n							\n			\n						\n		\n						\n				\n									In-Person								\n				\n		\n				\n							\n			\n						\n		\n						\n				\n										\n						\n									Zoom Link\n					\n					\n								\n				\n		\n				\n							\n			\n						\n		\n						\n				\n				\n					\n		\n			April 23\n\n	\n\n	 @ \n\n\n6:00 pm\n\n		\n\n\n\n	\n	 - \n\n7:00 pm\n\n\n\n	\n				\n				\n				\n				\n				\n					\n	\n\n	Categories:	\n		Workshop
URL:https://ncfcchcollaborative.com/training-event/family-information-session/
LOCATION:Zoom\, NY
ATTACH;FMTTYPE=image/png:https://ncfcchcollaborative.com/wp-content/uploads/2025/11/Gemini_Generated_Image_e9ah1fe9ah1fe9ah-e1762212246708.png
END:VEVENT
BEGIN:VEVENT
DTSTART;TZID=America/New_York:20251203T183000
DTEND;TZID=America/New_York:20251203T193000
DTSTAMP:20260420T130256
CREATED:20251201T165228Z
LAST-MODIFIED:20260129T203128Z
UID:232-1764786600-1764790200@ncfcchcollaborative.com
SUMMARY:Information Session
DESCRIPTION:« All Events\n				\n				\n				\n				\n					\n	Deep Dive with DCDEE: Frequently Asked Questions & Resources				\n				\n				\n					In our final session of the April Community of Practice series\, partners at DCDEE join the NC Family Child Care Home Collaborative to answer questions\, share resources\, and discuss next steps. 				\n		\n				\n				\n					\n	\n				\n				\n		\n		\n				\n							\n			\n						\n		\n						\n				\n									In-Person								\n				\n		\n				\n							\n			\n						\n		\n						\n				\n										\n						\n									Zoom Link\n					\n					\n								\n				\n		\n				\n							\n			\n						\n		\n						\n				\n				\n					\n		\n			April 23\n\n	\n\n	 @ \n\n\n6:00 pm\n\n		\n\n\n\n	\n	 - \n\n7:00 pm\n\n\n\n	\n				\n				\n				\n				\n				\n					\n	\n\n	Categories:	\n		Workshop
URL:https://ncfcchcollaborative.com/training-event/information-session/
LOCATION:Zoom\, NY
ATTACH;FMTTYPE=image/png:https://ncfcchcollaborative.com/wp-content/uploads/2025/11/Our-Support-Hero-Image-e1762213414464.png
END:VEVENT
BEGIN:VEVENT
DTSTART;TZID=America/New_York:20251202T183000
DTEND;TZID=America/New_York:20251202T193000
DTSTAMP:20260420T130256
CREATED:20251120T215334Z
LAST-MODIFIED:20260129T203150Z
UID:214-1764700200-1764703800@ncfcchcollaborative.com
SUMMARY:Information Session
DESCRIPTION:« All Events\n				\n				\n				\n				\n					\n	Deep Dive with DCDEE: Frequently Asked Questions & Resources				\n				\n				\n					In our final session of the April Community of Practice series\, partners at DCDEE join the NC Family Child Care Home Collaborative to answer questions\, share resources\, and discuss next steps. 				\n		\n				\n				\n					\n	\n				\n				\n		\n		\n				\n							\n			\n						\n		\n						\n				\n									In-Person								\n				\n		\n				\n							\n			\n						\n		\n						\n				\n										\n						\n									Zoom Link\n					\n					\n								\n				\n		\n				\n							\n			\n						\n		\n						\n				\n				\n					\n		\n			April 23\n\n	\n\n	 @ \n\n\n6:00 pm\n\n		\n\n\n\n	\n	 - \n\n7:00 pm\n\n\n\n	\n				\n				\n				\n				\n				\n					\n	\n\n	Categories:	\n		Workshop
URL:https://ncfcchcollaborative.com/training-event/provider-family-information-session/
LOCATION:Zoom\, NY
ATTACH;FMTTYPE=image/png:https://ncfcchcollaborative.com/wp-content/uploads/2025/11/home-base-childcare.png
END:VEVENT
BEGIN:VEVENT
DTSTART;TZID=America/New_York:20251125T171500
DTEND;TZID=America/New_York:20251125T181500
DTSTAMP:20260420T130256
CREATED:20251120T213920Z
LAST-MODIFIED:20260129T203644Z
UID:209-1764090900-1764094500@ncfcchcollaborative.com
SUMMARY:Provider Information Session
DESCRIPTION:« All Events\n				\n				\n				\n				\n					\n	Deep Dive with DCDEE: Frequently Asked Questions & Resources				\n				\n				\n					In our final session of the April Community of Practice series\, partners at DCDEE join the NC Family Child Care Home Collaborative to answer questions\, share resources\, and discuss next steps. 				\n		\n				\n				\n					\n	\n				\n				\n		\n		\n				\n							\n			\n						\n		\n						\n				\n									In-Person								\n				\n		\n				\n							\n			\n						\n		\n						\n				\n										\n						\n									Zoom Link\n					\n					\n								\n				\n		\n				\n							\n			\n						\n		\n						\n				\n				\n					\n		\n			April 23\n\n	\n\n	 @ \n\n\n6:00 pm\n\n		\n\n\n\n	\n	 - \n\n7:00 pm\n\n\n\n	\n				\n				\n				\n				\n				\n					\n	\n\n	Categories:	\n		Workshop
URL:https://ncfcchcollaborative.com/training-event/provider-information-session/
ATTACH;FMTTYPE=image/png:https://ncfcchcollaborative.com/wp-content/uploads/2025/11/Gemini_Generated_Image_9pz2sp9pz2sp9pz2-1.png
END:VEVENT
END:VCALENDAR